Package: AgiMicroRna Version: 2.60.0 Command: rm -rf AgiMicroRna.buildbin-libdir && mkdir AgiMicroRna.buildbin-libdir && /Users/biocbuild/BBS/utils/build-universal.sh AgiMicroRna_2.60.0.tar.gz /Library/Frameworks/R.framework/Resources/bin/R AgiMicroRna.buildbin-libdir StartedAt: 2025-11-10 23:10:42 -0500 (Mon, 10 Nov 2025) EndedAt: 2025-11-10 23:11:09 -0500 (Mon, 10 Nov 2025) EllapsedTime: 27.6 seconds RetCode: 0 Status: OK PackageFile: AgiMicroRna_2.60.0.tgz PackageFileSize: 3.525 MiB