Package: AffyRNADegradation Version: 1.56.0 Command: /home/biocbuild/bbs-3.22-bioc/R/bin/R CMD INSTALL AffyRNADegradation StartedAt: 2025-11-11 15:17:02 -0500 (Tue, 11 Nov 2025) EndedAt: 2025-11-11 15:17:07 -0500 (Tue, 11 Nov 2025) EllapsedTime: 5.1 seconds RetCode: 0 Status: OK