Package: AffyRNADegradation Version: 1.56.0 Command: /Library/Frameworks/R.framework/Resources/bin/R CMD build --keep-empty-dirs --no-resave-data AffyRNADegradation StartedAt: 2025-11-10 15:35:58 -0500 (Mon, 10 Nov 2025) EndedAt: 2025-11-10 15:36:49 -0500 (Mon, 10 Nov 2025) EllapsedTime: 51.6 seconds RetCode: 0 Status: OK PackageFile: AffyRNADegradation_1.56.0.tar.gz PackageFileSize: 365.7 KiB