Package: AffyRNADegradation Version: 1.56.0 Command: rm -rf AffyRNADegradation.buildbin-libdir && mkdir AffyRNADegradation.buildbin-libdir && /Users/biocbuild/BBS/utils/build-universal.sh AffyRNADegradation_1.56.0.tar.gz /Library/Frameworks/R.framework/Resources/bin/R AffyRNADegradation.buildbin-libdir StartedAt: 2025-11-10 23:10:39 -0500 (Mon, 10 Nov 2025) EndedAt: 2025-11-10 23:10:42 -0500 (Mon, 10 Nov 2025) EllapsedTime: 2.0 seconds RetCode: 0 Status: OK PackageFile: AffyRNADegradation_1.56.0.tgz PackageFileSize: 402 KiB