Package: AffiXcan Version: 1.28.0 Command: /home/biocbuild/bbs-3.22-bioc/R/bin/R CMD INSTALL AffiXcan StartedAt: 2025-11-14 15:22:59 -0500 (Fri, 14 Nov 2025) EndedAt: 2025-11-14 15:23:23 -0500 (Fri, 14 Nov 2025) EllapsedTime: 23.4 seconds RetCode: 0 Status: OK