Package: AffiXcan Version: 1.28.0 Command: /home/biocbuild/bbs-3.22-bioc/R/bin/R CMD build --keep-empty-dirs --no-resave-data --md5 AffiXcan StartedAt: 2025-11-14 16:11:29 -0500 (Fri, 14 Nov 2025) EndedAt: 2025-11-14 16:12:09 -0500 (Fri, 14 Nov 2025) EllapsedTime: 40.1 seconds RetCode: 0 Status: OK PackageFile: AffiXcan_1.28.0.tar.gz PackageFileSize: 2.374 MiB