Package: AffiXcan Version: 1.28.0 Command: /Library/Frameworks/R.framework/Resources/bin/R CMD INSTALL AffiXcan StartedAt: 2025-11-10 15:13:52 -0500 (Mon, 10 Nov 2025) EndedAt: 2025-11-10 15:14:02 -0500 (Mon, 10 Nov 2025) EllapsedTime: 9.2 seconds RetCode: 0 Status: OK