Package: AffiXcan Version: 1.28.0 Command: rm -rf AffiXcan.buildbin-libdir && mkdir AffiXcan.buildbin-libdir && /Users/biocbuild/BBS/utils/build-universal.sh AffiXcan_1.28.0.tar.gz /Library/Frameworks/R.framework/Resources/bin/R AffiXcan.buildbin-libdir StartedAt: 2025-11-10 23:10:33 -0500 (Mon, 10 Nov 2025) EndedAt: 2025-11-10 23:10:44 -0500 (Mon, 10 Nov 2025) EllapsedTime: 10.3 seconds RetCode: 0 Status: OK PackageFile: AffiXcan_1.28.0.tgz PackageFileSize: 2.033 MiB