Package: AWFisher Version: 1.24.0 Command: /home/biocbuild/bbs-3.22-bioc/R/bin/R CMD check --install=check:AWFisher.install-out.txt --library=/home/biocbuild/bbs-3.22-bioc/R/site-library --timings AWFisher_1.24.0.tar.gz StartedAt: 2025-11-14 21:17:41 -0500 (Fri, 14 Nov 2025) EndedAt: 2025-11-14 21:18:13 -0500 (Fri, 14 Nov 2025) EllapsedTime: 32.0 seconds RetCode: 0 Status: OK CheckDir: AWFisher.Rcheck Warnings: 0