Package: AWFisher Version: 1.22.0 Command: /home/biocbuild/bbs-3.21-bioc/R/bin/R CMD INSTALL AWFisher StartedAt: 2025-10-15 15:05:10 -0400 (Wed, 15 Oct 2025) EndedAt: 2025-10-15 15:05:26 -0400 (Wed, 15 Oct 2025) EllapsedTime: 16.2 seconds RetCode: 0 Status: OK