Package: AWFisher Version: 1.22.0 Command: /home/biocbuild/R/R/bin/R CMD INSTALL AWFisher StartedAt: 2025-10-06 20:16:22 -0000 (Mon, 06 Oct 2025) EndedAt: 2025-10-06 20:16:43 -0000 (Mon, 06 Oct 2025) EllapsedTime: 20.8 seconds RetCode: 0 Status: OK