Package: AWFisher Version: 1.22.0 Command: /home/biocbuild/R/R/bin/R CMD build --keep-empty-dirs --no-resave-data AWFisher StartedAt: 2025-10-06 22:40:37 -0000 (Mon, 06 Oct 2025) EndedAt: 2025-10-06 22:41:19 -0000 (Mon, 06 Oct 2025) EllapsedTime: 42.0 seconds RetCode: 0 Status: OK PackageFile: AWFisher_1.22.0.tar.gz PackageFileSize: 1.378 MiB