Package: AWFisher Version: 1.24.0 Command: /Library/Frameworks/R.framework/Resources/bin/R CMD INSTALL AWFisher StartedAt: 2025-11-24 15:22:18 -0500 (Mon, 24 Nov 2025) EndedAt: 2025-11-24 15:22:29 -0500 (Mon, 24 Nov 2025) EllapsedTime: 11.2 seconds RetCode: 0 Status: OK