Package: AWAggregator Version: 1.0.0 Command: /home/biocbuild/R/R/bin/R CMD INSTALL AWAggregator StartedAt: 2025-11-10 21:14:56 -0000 (Mon, 10 Nov 2025) EndedAt: 2025-11-10 21:15:28 -0000 (Mon, 10 Nov 2025) EllapsedTime: 31.9 seconds RetCode: 0 Status: OK