Package: AWAggregator Version: 1.0.0 Command: /home/biocbuild/R/R/bin/R CMD build --keep-empty-dirs --no-resave-data AWAggregator StartedAt: 2025-11-10 23:34:18 -0000 (Mon, 10 Nov 2025) EndedAt: 2025-11-11 00:02:54 -0000 (Tue, 11 Nov 2025) EllapsedTime: 1716.5 seconds RetCode: 0 Status: OK PackageFile: AWAggregator_1.0.0.tar.gz PackageFileSize: 299.3 KiB