Package: AWAggregator Version: 1.0.0 Command: /home/biocbuild/bbs-3.22-bioc/R/bin/R CMD check --install=check:AWAggregator.install-out.txt --library=/home/biocbuild/bbs-3.22-bioc/R/site-library --timings AWAggregator_1.0.0.tar.gz StartedAt: 2025-11-11 21:18:05 -0500 (Tue, 11 Nov 2025) EndedAt: 2025-11-11 21:26:30 -0500 (Tue, 11 Nov 2025) EllapsedTime: 505.9 seconds RetCode: 0 Status: OK CheckDir: AWAggregator.Rcheck Warnings: 0