Package: AWAggregator Version: 1.0.0 Command: /home/biocbuild/bbs-3.22-bioc/R/bin/R CMD build --keep-empty-dirs --no-resave-data --md5 AWAggregator StartedAt: 2025-11-10 16:22:50 -0500 (Mon, 10 Nov 2025) EndedAt: 2025-11-10 16:27:56 -0500 (Mon, 10 Nov 2025) EllapsedTime: 305.3 seconds RetCode: 0 Status: OK PackageFile: AWAggregator_1.0.0.tar.gz PackageFileSize: 274.7 KiB