Package: AWAggregator Version: 1.0.0 Command: /Library/Frameworks/R.framework/Resources/bin/R CMD INSTALL AWAggregator StartedAt: 2025-11-10 15:05:51 -0500 (Mon, 10 Nov 2025) EndedAt: 2025-11-10 15:05:56 -0500 (Mon, 10 Nov 2025) EllapsedTime: 5.4 seconds RetCode: 0 Status: OK