Package: AWAggregator Version: 1.0.0 Command: /Library/Frameworks/R.framework/Resources/bin/R CMD build --keep-empty-dirs --no-resave-data AWAggregator StartedAt: 2025-11-10 15:40:02 -0500 (Mon, 10 Nov 2025) EndedAt: 2025-11-10 15:42:17 -0500 (Mon, 10 Nov 2025) EllapsedTime: 135.4 seconds RetCode: 0 Status: OK PackageFile: AWAggregator_1.0.0.tar.gz PackageFileSize: 273.8 KiB