Package: ATACseqTFEA Version: 1.12.0 Command: /home/biocbuild/bbs-3.22-bioc/R/bin/R CMD INSTALL ATACseqTFEA StartedAt: 2025-11-11 15:57:05 -0500 (Tue, 11 Nov 2025) EndedAt: 2025-11-11 15:57:51 -0500 (Tue, 11 Nov 2025) EllapsedTime: 45.9 seconds RetCode: 0 Status: OK