Package: ATACseqTFEA Version: 1.12.0 Command: /home/biocbuild/bbs-3.22-bioc/R/bin/R CMD check --install=check:ATACseqTFEA.install-out.txt --library=/home/biocbuild/bbs-3.22-bioc/R/site-library --timings ATACseqTFEA_1.12.0.tar.gz StartedAt: 2025-11-14 21:16:26 -0500 (Fri, 14 Nov 2025) EndedAt: 2025-11-14 21:24:45 -0500 (Fri, 14 Nov 2025) EllapsedTime: 498.9 seconds RetCode: 0 Status: OK CheckDir: ATACseqTFEA.Rcheck Warnings: 0