Package: ATACseqTFEA Version: 1.12.0 Command: /home/biocbuild/bbs-3.22-bioc/R/bin/R CMD build --keep-empty-dirs --no-resave-data --md5 ATACseqTFEA StartedAt: 2025-11-11 16:19:50 -0500 (Tue, 11 Nov 2025) EndedAt: 2025-11-11 16:21:36 -0500 (Tue, 11 Nov 2025) EllapsedTime: 106.1 seconds RetCode: 0 Status: OK PackageFile: ATACseqTFEA_1.12.0.tar.gz PackageFileSize: 4.472 MiB