Package: ATACseqTFEA Version: 1.12.0 Command: /Library/Frameworks/R.framework/Resources/bin/R CMD INSTALL ATACseqTFEA StartedAt: 2025-11-03 15:48:00 -0500 (Mon, 03 Nov 2025) EndedAt: 2025-11-03 15:48:56 -0500 (Mon, 03 Nov 2025) EllapsedTime: 56.3 seconds RetCode: 0 Status: OK