Package: ATACseqTFEA Version: 1.10.0 Command: /home/biocbuild/R/R/bin/R CMD INSTALL ATACseqTFEA StartedAt: 2025-10-13 21:09:40 -0000 (Mon, 13 Oct 2025) EndedAt: 2025-10-13 21:10:41 -0000 (Mon, 13 Oct 2025) EllapsedTime: 60.6 seconds RetCode: 0 Status: OK