Package: ATACseqTFEA Version: 1.10.0 Command: /home/biocbuild/R/R/bin/R CMD build --keep-empty-dirs --no-resave-data ATACseqTFEA StartedAt: 2025-10-13 22:39:01 -0000 (Mon, 13 Oct 2025) EndedAt: 2025-10-13 22:41:36 -0000 (Mon, 13 Oct 2025) EllapsedTime: 155.0 seconds RetCode: 0 Status: OK PackageFile: ATACseqTFEA_1.10.0.tar.gz PackageFileSize: 4.463 MiB