Package: ATACseqQC Version: 1.34.0 Command: /home/biocbuild/R/R/bin/R CMD INSTALL ATACseqQC StartedAt: 2025-11-10 22:03:31 -0000 (Mon, 10 Nov 2025) EndedAt: 2025-11-10 22:04:46 -0000 (Mon, 10 Nov 2025) EllapsedTime: 75.6 seconds RetCode: 0 Status: OK