Package: ATACseqQC Version: 1.34.0 Command: /home/biocbuild/R/R/bin/R CMD build --keep-empty-dirs --no-resave-data ATACseqQC StartedAt: 2025-11-10 23:31:16 -0000 (Mon, 10 Nov 2025) EndedAt: 2025-11-10 23:35:39 -0000 (Mon, 10 Nov 2025) EllapsedTime: 263.1 seconds RetCode: 0 Status: OK PackageFile: ATACseqQC_1.34.0.tar.gz PackageFileSize: 13.93 MiB