Package: ATACseqQC Version: 1.34.0 Command: /home/biocbuild/bbs-3.22-bioc/R/bin/R CMD check --install=check:ATACseqQC.install-out.txt --library=/home/biocbuild/bbs-3.22-bioc/R/site-library --timings ATACseqQC_1.34.0.tar.gz StartedAt: 2025-11-11 21:16:32 -0500 (Tue, 11 Nov 2025) EndedAt: 2025-11-11 21:32:18 -0500 (Tue, 11 Nov 2025) EllapsedTime: 946.0 seconds RetCode: 0 Status: OK CheckDir: ATACseqQC.Rcheck Warnings: 0