Package: ATACseqQC Version: 1.34.0 Command: /home/biocbuild/bbs-3.22-bioc/R/bin/R CMD build --keep-empty-dirs --no-resave-data --md5 ATACseqQC StartedAt: 2025-11-11 16:19:50 -0500 (Tue, 11 Nov 2025) EndedAt: 2025-11-11 16:23:33 -0500 (Tue, 11 Nov 2025) EllapsedTime: 223.2 seconds RetCode: 0 Status: OK PackageFile: ATACseqQC_1.34.0.tar.gz PackageFileSize: 14.53 MiB