Package: ATACseqQC Version: 1.32.0 Command: /Library/Frameworks/R.framework/Resources/bin/R CMD INSTALL ATACseqQC StartedAt: 2025-10-13 16:36:00 -0400 (Mon, 13 Oct 2025) EndedAt: 2025-10-13 16:37:59 -0400 (Mon, 13 Oct 2025) EllapsedTime: 118.7 seconds RetCode: 0 Status: OK