Package: ATACseqQC Version: 1.32.0 Command: rm -rf ATACseqQC.buildbin-libdir && mkdir ATACseqQC.buildbin-libdir && /Users/biocbuild/BBS/utils/build-universal.sh ATACseqQC_1.32.0.tar.gz /Library/Frameworks/R.framework/Resources/bin/R ATACseqQC.buildbin-libdir StartedAt: 2025-10-14 12:51:11 -0400 (Tue, 14 Oct 2025) EndedAt: 2025-10-14 12:53:16 -0400 (Tue, 14 Oct 2025) EllapsedTime: 124.9 seconds RetCode: 0 Status: OK PackageFile: ATACseqQC_1.32.0.tgz PackageFileSize: 14.23 MiB