Package: ASpli Version: 2.20.0 Command: /home/biocbuild/bbs-3.22-bioc/R/bin/R CMD INSTALL ASpli StartedAt: 2025-11-13 15:49:55 -0500 (Thu, 13 Nov 2025) EndedAt: 2025-11-13 15:51:00 -0500 (Thu, 13 Nov 2025) EllapsedTime: 64.9 seconds RetCode: 0 Status: OK