Package: ASpli Version: 2.20.0 Command: /Library/Frameworks/R.framework/Resources/bin/R CMD INSTALL ASpli StartedAt: 2025-11-10 15:25:47 -0500 (Mon, 10 Nov 2025) EndedAt: 2025-11-10 15:26:12 -0500 (Mon, 10 Nov 2025) EllapsedTime: 25.3 seconds RetCode: 0 Status: OK