Package: ASpli Version: 2.20.0 Command: /Library/Frameworks/R.framework/Resources/bin/R CMD build --keep-empty-dirs --no-resave-data ASpli StartedAt: 2025-11-10 15:38:56 -0500 (Mon, 10 Nov 2025) EndedAt: 2025-11-10 15:40:02 -0500 (Mon, 10 Nov 2025) EllapsedTime: 65.7 seconds RetCode: 0 Status: OK PackageFile: ASpli_2.20.0.tar.gz PackageFileSize: 4.778 MiB