Package: ASpli Version: 2.20.0 Command: rm -rf ASpli.buildbin-libdir && mkdir ASpli.buildbin-libdir && /Users/biocbuild/BBS/utils/build-universal.sh ASpli_2.20.0.tar.gz /Library/Frameworks/R.framework/Resources/bin/R ASpli.buildbin-libdir StartedAt: 2025-11-10 23:11:28 -0500 (Mon, 10 Nov 2025) EndedAt: 2025-11-10 23:11:54 -0500 (Mon, 10 Nov 2025) EllapsedTime: 26.5 seconds RetCode: 0 Status: OK PackageFile: ASpli_2.20.0.tgz PackageFileSize: 3.207 MiB