Package: ASURAT Version: 1.14.0 Command: /home/biocbuild/bbs-3.22-bioc/R/bin/R CMD INSTALL ASURAT StartedAt: 2025-11-13 15:24:33 -0500 (Thu, 13 Nov 2025) EndedAt: 2025-11-13 15:25:04 -0500 (Thu, 13 Nov 2025) EllapsedTime: 31.9 seconds RetCode: 0 Status: OK