Package: ASURAT Version: 1.14.0 Command: /home/biocbuild/bbs-3.22-bioc/R/bin/R CMD build --keep-empty-dirs --no-resave-data --md5 ASURAT StartedAt: 2025-11-13 16:17:12 -0500 (Thu, 13 Nov 2025) EndedAt: 2025-11-13 16:29:41 -0500 (Thu, 13 Nov 2025) EllapsedTime: 748.5 seconds RetCode: 0 Status: OK PackageFile: ASURAT_1.14.0.tar.gz PackageFileSize: 1.636 MiB