Package: ASURAT Version: 1.14.0 Command: /Library/Frameworks/R.framework/Resources/bin/R CMD INSTALL ASURAT StartedAt: 2025-10-31 15:18:38 -0400 (Fri, 31 Oct 2025) EndedAt: 2025-10-31 15:18:51 -0400 (Fri, 31 Oct 2025) EllapsedTime: 12.5 seconds RetCode: 0 Status: OK