Package: ASURAT Version: 1.14.0 Command: /Library/Frameworks/R.framework/Resources/bin/R CMD build --keep-empty-dirs --no-resave-data ASURAT StartedAt: 2025-10-31 15:42:54 -0400 (Fri, 31 Oct 2025) EndedAt: 2025-10-31 15:48:00 -0400 (Fri, 31 Oct 2025) EllapsedTime: 306.2 seconds RetCode: 0 Status: OK PackageFile: ASURAT_1.14.0.tar.gz PackageFileSize: 1.766 MiB