Package: ASURAT Version: 1.14.0 Command: rm -rf ASURAT.buildbin-libdir && mkdir ASURAT.buildbin-libdir && /Users/biocbuild/BBS/utils/build-universal.sh ASURAT_1.14.0.tar.gz /Library/Frameworks/R.framework/Resources/bin/R ASURAT.buildbin-libdir StartedAt: 2025-10-31 22:58:17 -0400 (Fri, 31 Oct 2025) EndedAt: 2025-10-31 22:58:33 -0400 (Fri, 31 Oct 2025) EllapsedTime: 16.3 seconds RetCode: 0 Status: OK PackageFile: ASURAT_1.14.0.tgz PackageFileSize: 3.617 MiB