Package: ASSIGN Version: 1.46.0 Command: /home/biocbuild/bbs-3.22-bioc/R/bin/R CMD INSTALL ASSIGN StartedAt: 2025-11-11 15:33:10 -0500 (Tue, 11 Nov 2025) EndedAt: 2025-11-11 15:33:13 -0500 (Tue, 11 Nov 2025) EllapsedTime: 3.3 seconds RetCode: 0 Status: OK