Package: ASSIGN Version: 1.46.0 Command: /home/biocbuild/bbs-3.22-bioc/R/bin/R CMD check --install=check:ASSIGN.install-out.txt --library=/home/biocbuild/bbs-3.22-bioc/R/site-library --timings ASSIGN_1.46.0.tar.gz StartedAt: 2025-11-16 21:17:17 -0500 (Sun, 16 Nov 2025) EndedAt: 2025-11-16 21:17:56 -0500 (Sun, 16 Nov 2025) EllapsedTime: 39.0 seconds RetCode: 0 Status: OK CheckDir: ASSIGN.Rcheck Warnings: 0