Package: ASSIGN Version: 1.46.0 Command: /Library/Frameworks/R.framework/Resources/bin/R CMD build --keep-empty-dirs --no-resave-data ASSIGN StartedAt: 2025-11-03 16:05:25 -0500 (Mon, 03 Nov 2025) EndedAt: 2025-11-03 16:05:36 -0500 (Mon, 03 Nov 2025) EllapsedTime: 11.4 seconds RetCode: 0 Status: OK PackageFile: ASSIGN_1.46.0.tar.gz PackageFileSize: 1.621 MiB