Package: ASSIGN Version: 1.46.0 Command: rm -rf ASSIGN.buildbin-libdir && mkdir ASSIGN.buildbin-libdir && /Users/biocbuild/BBS/utils/build-universal.sh ASSIGN_1.46.0.tar.gz /Library/Frameworks/R.framework/Resources/bin/R ASSIGN.buildbin-libdir StartedAt: 2025-11-04 01:28:06 -0500 (Tue, 04 Nov 2025) EndedAt: 2025-11-04 01:28:13 -0500 (Tue, 04 Nov 2025) EllapsedTime: 6.9 seconds RetCode: 0 Status: OK PackageFile: ASSIGN_1.46.0.tgz PackageFileSize: 1.669 MiB