Package: ASSIGN Version: 1.44.0 Command: /home/biocbuild/R/R/bin/R CMD INSTALL ASSIGN StartedAt: 2025-10-13 20:43:47 -0000 (Mon, 13 Oct 2025) EndedAt: 2025-10-13 20:43:51 -0000 (Mon, 13 Oct 2025) EllapsedTime: 3.6 seconds RetCode: 0 Status: OK