Package: ASSIGN Version: 1.44.0 Command: /home/biocbuild/R/R/bin/R CMD build --keep-empty-dirs --no-resave-data ASSIGN StartedAt: 2025-10-13 22:38:45 -0000 (Mon, 13 Oct 2025) EndedAt: 2025-10-13 22:38:53 -0000 (Mon, 13 Oct 2025) EllapsedTime: 8.0 seconds RetCode: 0 Status: OK PackageFile: ASSIGN_1.44.0.tar.gz PackageFileSize: 1.685 MiB