Package: ASSIGN Version: 1.44.0 Command: /Library/Frameworks/R.framework/Resources/bin/R CMD INSTALL ASSIGN StartedAt: 2025-04-21 15:09:43 -0400 (Mon, 21 Apr 2025) EndedAt: 2025-04-21 15:09:44 -0400 (Mon, 21 Apr 2025) EllapsedTime: 1.3 seconds RetCode: 0 Status: OK