Package: ASSET Version: 2.28.0 Command: /home/biocbuild/bbs-3.22-bioc/R/bin/R CMD INSTALL ASSET StartedAt: 2025-11-11 15:10:45 -0500 (Tue, 11 Nov 2025) EndedAt: 2025-11-11 15:11:19 -0500 (Tue, 11 Nov 2025) EllapsedTime: 33.6 seconds RetCode: 0 Status: OK