Package: ASSET Version: 2.28.0 Command: /Library/Frameworks/R.framework/Resources/bin/R CMD INSTALL ASSET StartedAt: 2025-11-10 15:03:50 -0500 (Mon, 10 Nov 2025) EndedAt: 2025-11-10 15:04:08 -0500 (Mon, 10 Nov 2025) EllapsedTime: 17.8 seconds RetCode: 0 Status: OK