Package: ASSET Version: 2.28.0 Command: rm -rf ASSET.buildbin-libdir && mkdir ASSET.buildbin-libdir && /Users/biocbuild/BBS/utils/build-universal.sh ASSET_2.28.0.tar.gz /Library/Frameworks/R.framework/Resources/bin/R ASSET.buildbin-libdir StartedAt: 2025-11-10 23:11:28 -0500 (Mon, 10 Nov 2025) EndedAt: 2025-11-10 23:11:32 -0500 (Mon, 10 Nov 2025) EllapsedTime: 4.1 seconds RetCode: 0 Status: OK PackageFile: ASSET_2.28.0.tgz PackageFileSize: 475.8 KiB